BEGIN:VCALENDAR
VERSION:2.0
PRODID:-//Behavioral Health Services of Somerset and Bedford Counties (BHSSBC) - ECPv6.15.13//NONSGML v1.0//EN
CALSCALE:GREGORIAN
METHOD:PUBLISH
X-WR-CALNAME:Behavioral Health Services of Somerset and Bedford Counties (BHSSBC)
X-ORIGINAL-URL:https://www.bhssbc.us
X-WR-CALDESC:Events for Behavioral Health Services of Somerset and Bedford Counties (BHSSBC)
REFRESH-INTERVAL;VALUE=DURATION:PT1H
X-Robots-Tag:noindex
X-PUBLISHED-TTL:PT1H
BEGIN:VTIMEZONE
TZID:America/New_York
BEGIN:DAYLIGHT
TZOFFSETFROM:-0500
TZOFFSETTO:-0400
TZNAME:EDT
DTSTART:20230312T070000
END:DAYLIGHT
BEGIN:STANDARD
TZOFFSETFROM:-0400
TZOFFSETTO:-0500
TZNAME:EST
DTSTART:20231105T060000
END:STANDARD
BEGIN:DAYLIGHT
TZOFFSETFROM:-0500
TZOFFSETTO:-0400
TZNAME:EDT
DTSTART:20240310T070000
END:DAYLIGHT
BEGIN:STANDARD
TZOFFSETFROM:-0400
TZOFFSETTO:-0500
TZNAME:EST
DTSTART:20241103T060000
END:STANDARD
BEGIN:DAYLIGHT
TZOFFSETFROM:-0500
TZOFFSETTO:-0400
TZNAME:EDT
DTSTART:20250309T070000
END:DAYLIGHT
BEGIN:STANDARD
TZOFFSETFROM:-0400
TZOFFSETTO:-0500
TZNAME:EST
DTSTART:20251102T060000
END:STANDARD
END:VTIMEZONE
BEGIN:VEVENT
DTSTART;TZID=America/New_York:20241107T083000
DTEND;TZID=America/New_York:20241107T100000
DTSTAMP:20260421T042759
CREATED:20230824T171718Z
LAST-MODIFIED:20230824T171718Z
UID:10000479-1730968200-1730973600@www.bhssbc.us
SUMMARY:Children's Model Workgroup
DESCRIPTION:
URL:https://www.bhssbc.us/event/childrens-model-workgroup/2024-11-07/
LOCATION:Microsoft Teams
CATEGORIES:2024 Meetings
END:VEVENT
BEGIN:VEVENT
DTSTART;TZID=America/New_York:20241113T100000
DTEND;TZID=America/New_York:20241113T113000
DTSTAMP:20260421T042759
CREATED:20230824T172553Z
LAST-MODIFIED:20230824T172553Z
UID:10000497-1731492000-1731497400@www.bhssbc.us
SUMMARY:Stakeholder Advisory Committee Mtg.
DESCRIPTION:
URL:https://www.bhssbc.us/event/stakeholder-advisory-committee-mtg-10/2024-11-13/
LOCATION:DBHS Training Rooms + Microsoft Teams
CATEGORIES:2024 Meetings
END:VEVENT
BEGIN:VEVENT
DTSTART;TZID=America/New_York:20241120T120000
DTEND;TZID=America/New_York:20241120T140000
DTSTAMP:20260421T042759
CREATED:20230824T171509Z
LAST-MODIFIED:20230824T171509Z
UID:10000477-1732104000-1732111200@www.bhssbc.us
SUMMARY:Board of Directors Meeting
DESCRIPTION:
URL:https://www.bhssbc.us/event/board-of-directors-meeting-4/
LOCATION:Microsoft Teams
CATEGORIES:2024 Meetings
END:VEVENT
END:VCALENDAR